BEGIN:VCALENDAR
VERSION:2.0
PRODID:-//Independent Living Association - ILA California - ECPv6.15.16//NONSGML v1.0//EN
CALSCALE:GREGORIAN
METHOD:PUBLISH
X-ORIGINAL-URL:https://ilacalifornia.org
X-WR-CALDESC:Events for Independent Living Association - ILA California
REFRESH-INTERVAL;VALUE=DURATION:PT1H
X-Robots-Tag:noindex
X-PUBLISHED-TTL:PT1H
BEGIN:VTIMEZONE
TZID:America/Los_Angeles
BEGIN:DAYLIGHT
TZOFFSETFROM:-0800
TZOFFSETTO:-0700
TZNAME:PDT
DTSTART:20250309T100000
END:DAYLIGHT
BEGIN:STANDARD
TZOFFSETFROM:-0700
TZOFFSETTO:-0800
TZNAME:PST
DTSTART:20251102T090000
END:STANDARD
BEGIN:DAYLIGHT
TZOFFSETFROM:-0800
TZOFFSETTO:-0700
TZNAME:PDT
DTSTART:20260308T100000
END:DAYLIGHT
BEGIN:STANDARD
TZOFFSETFROM:-0700
TZOFFSETTO:-0800
TZNAME:PST
DTSTART:20261101T090000
END:STANDARD
BEGIN:DAYLIGHT
TZOFFSETFROM:-0800
TZOFFSETTO:-0700
TZNAME:PDT
DTSTART:20270314T100000
END:DAYLIGHT
BEGIN:STANDARD
TZOFFSETFROM:-0700
TZOFFSETTO:-0800
TZNAME:PST
DTSTART:20271107T090000
END:STANDARD
END:VTIMEZONE
BEGIN:VEVENT
DTSTART;TZID=America/Los_Angeles:20260501T180000
DTEND;TZID=America/Los_Angeles:20260501T210000
DTSTAMP:20260422T081213
CREATED:20260304T185625Z
LAST-MODIFIED:20260304T185625Z
UID:16202-1777658400-1777669200@ilacalifornia.org
SUMMARY:ILA Annual Celebration of Success 2026
DESCRIPTION:Save the Date! ILA Annual Celebration of Success. \nWe will be having a semi-formal event to celebrate the hard work and success of our Operators. The event will include a full dinner\, presentation of awards\, internal networking\, and so much fun! \nPlease note: this event is for ILA Operators only.
URL:https://ilacalifornia.org/event/ila-annual-celebration-of-success-2026/
CATEGORIES:San Diego County - ILA Operators Classes,San Diego County Events
ATTACH;FMTTYPE=application/pdf:https://ilacalifornia.org/wp-content/uploads/2026/03/ILA-Celebration-of-Success-Save-the-Date-2026-1.pdf
END:VEVENT
END:VCALENDAR