BEGIN:VCALENDAR
VERSION:2.0
PRODID:-//Independent Living Association - ILA California - ECPv6.15.16//NONSGML v1.0//EN
CALSCALE:GREGORIAN
METHOD:PUBLISH
X-WR-CALNAME:Independent Living Association - ILA California
X-ORIGINAL-URL:https://ilacalifornia.org
X-WR-CALDESC:Events for Independent Living Association - ILA California
REFRESH-INTERVAL;VALUE=DURATION:PT1H
X-Robots-Tag:noindex
X-PUBLISHED-TTL:PT1H
BEGIN:VTIMEZONE
TZID:America/Los_Angeles
BEGIN:DAYLIGHT
TZOFFSETFROM:-0800
TZOFFSETTO:-0700
TZNAME:PDT
DTSTART:20230312T100000
END:DAYLIGHT
BEGIN:STANDARD
TZOFFSETFROM:-0700
TZOFFSETTO:-0800
TZNAME:PST
DTSTART:20231105T090000
END:STANDARD
BEGIN:DAYLIGHT
TZOFFSETFROM:-0800
TZOFFSETTO:-0700
TZNAME:PDT
DTSTART:20240310T100000
END:DAYLIGHT
BEGIN:STANDARD
TZOFFSETFROM:-0700
TZOFFSETTO:-0800
TZNAME:PST
DTSTART:20241103T090000
END:STANDARD
BEGIN:DAYLIGHT
TZOFFSETFROM:-0800
TZOFFSETTO:-0700
TZNAME:PDT
DTSTART:20250309T100000
END:DAYLIGHT
BEGIN:STANDARD
TZOFFSETFROM:-0700
TZOFFSETTO:-0800
TZNAME:PST
DTSTART:20251102T090000
END:STANDARD
END:VTIMEZONE
BEGIN:VEVENT
DTSTART;TZID=America/Los_Angeles:20241113T100000
DTEND;TZID=America/Los_Angeles:20241113T113000
DTSTAMP:20260419T074507
CREATED:20241104T074350Z
LAST-MODIFIED:20241104T074350Z
UID:13915-1731492000-1731497400@ilacalifornia.org
SUMMARY:ILA Monthly Work Team Meeting & Coffee Mixer *In-Person*
DESCRIPTION:  \nRSVP Here: https://forms.office.com/r/gDVUE98qw6 \nDirections to SELWC: Directions-to-SELWC-08-29-2023-002-1.pdf
URL:https://ilacalifornia.org/event/ila-monthly-work-team-meeting-coffee-mixer-in-person-2/
LOCATION:Southeastern Live Well Center\, 5101 Market Street\, San Diego\, CA\, 92114\, United States
CATEGORIES:San Diego County - Networking Events,San Diego County Events
ORGANIZER;CN="ILA San Diego County":MAILTO:sandiego@ilacalifornia.org
END:VEVENT
END:VCALENDAR